BEGIN:VCALENDAR
VERSION:2.0
PRODID:-//Ride4Hope Austria - ECPv6.15.20//NONSGML v1.0//EN
CALSCALE:GREGORIAN
METHOD:PUBLISH
X-WR-CALNAME:Ride4Hope Austria
X-ORIGINAL-URL:https://ride4hope.at
X-WR-CALDESC:Veranstaltungen für Ride4Hope Austria
REFRESH-INTERVAL;VALUE=DURATION:PT1H
X-Robots-Tag:noindex
X-PUBLISHED-TTL:PT1H
BEGIN:VTIMEZONE
TZID:Europe/Vienna
BEGIN:DAYLIGHT
TZOFFSETFROM:+0100
TZOFFSETTO:+0200
TZNAME:CEST
DTSTART:20210328T010000
END:DAYLIGHT
BEGIN:STANDARD
TZOFFSETFROM:+0200
TZOFFSETTO:+0100
TZNAME:CET
DTSTART:20211031T010000
END:STANDARD
BEGIN:DAYLIGHT
TZOFFSETFROM:+0100
TZOFFSETTO:+0200
TZNAME:CEST
DTSTART:20220327T010000
END:DAYLIGHT
BEGIN:STANDARD
TZOFFSETFROM:+0200
TZOFFSETTO:+0100
TZNAME:CET
DTSTART:20221030T010000
END:STANDARD
BEGIN:DAYLIGHT
TZOFFSETFROM:+0100
TZOFFSETTO:+0200
TZNAME:CEST
DTSTART:20230326T010000
END:DAYLIGHT
BEGIN:STANDARD
TZOFFSETFROM:+0200
TZOFFSETTO:+0100
TZNAME:CET
DTSTART:20231029T010000
END:STANDARD
END:VTIMEZONE
BEGIN:VEVENT
DTSTART;TZID=Europe/Vienna:20220924T140000
DTEND;TZID=Europe/Vienna:20220924T200000
DTSTAMP:20260423T164406
CREATED:20220922T074801Z
LAST-MODIFIED:20220922T074857Z
UID:1810-1664028000-1664049600@ride4hope.at
SUMMARY:Passailer Volkslauf
DESCRIPTION:Come and try – #virtualoderralegal \nDu hast die Möglichkeit\, beim Volkslauf in Passail\, unsere Virtualisierung zu Testen. \nBei einer 1km Challenge gibt es die Möglichkeit einen Startplatz für den Hybridcup zu gewinnen! \n 
URL:https://ride4hope.at/event/passailer-volkslauf/
LOCATION:Ride4Hope Austria\, Hauptplatz\, Passail\, 8162\, Austria
CATEGORIES:Hybridcup
END:VEVENT
BEGIN:VEVENT
DTSTART;TZID=Europe/Vienna:20220929T160000
DTEND;TZID=Europe/Vienna:20220929T190000
DTSTAMP:20260423T164406
CREATED:20220923T113158Z
LAST-MODIFIED:20220923T113605Z
UID:1828-1664467200-1664478000@ride4hope.at
SUMMARY:KAPO Schauraum Eröffnung
DESCRIPTION:Im Zuge der Eröffnungsfeier vom KAPO Schauraum gibt es die Möglichkeit Ride4Hope und den Hybridcup kennenzulernen.
URL:https://ride4hope.at/event/kapo-schauraum-eroeffnung/
LOCATION:KAPO\, Opernring 8\, Wien\, 1010\, Austria
CATEGORIES:PK
ORGANIZER;CN="Erlebnisregion Oststeiermark":MAILTO:info@oststeiermark.com
END:VEVENT
END:VCALENDAR