BEGIN:VCALENDAR
VERSION:2.0
PRODID:-//Ride4Hope Austria - ECPv6.15.20//NONSGML v1.0//EN
CALSCALE:GREGORIAN
METHOD:PUBLISH
X-ORIGINAL-URL:https://ride4hope.at
X-WR-CALDESC:Veranstaltungen für Ride4Hope Austria
REFRESH-INTERVAL;VALUE=DURATION:PT1H
X-Robots-Tag:noindex
X-PUBLISHED-TTL:PT1H
BEGIN:VTIMEZONE
TZID:Europe/Vienna
BEGIN:DAYLIGHT
TZOFFSETFROM:+0100
TZOFFSETTO:+0200
TZNAME:CEST
DTSTART:20230326T010000
END:DAYLIGHT
BEGIN:STANDARD
TZOFFSETFROM:+0200
TZOFFSETTO:+0100
TZNAME:CET
DTSTART:20231029T010000
END:STANDARD
BEGIN:DAYLIGHT
TZOFFSETFROM:+0100
TZOFFSETTO:+0200
TZNAME:CEST
DTSTART:20240331T010000
END:DAYLIGHT
BEGIN:STANDARD
TZOFFSETFROM:+0200
TZOFFSETTO:+0100
TZNAME:CET
DTSTART:20241027T010000
END:STANDARD
BEGIN:DAYLIGHT
TZOFFSETFROM:+0100
TZOFFSETTO:+0200
TZNAME:CEST
DTSTART:20250330T010000
END:DAYLIGHT
BEGIN:STANDARD
TZOFFSETFROM:+0200
TZOFFSETTO:+0100
TZNAME:CET
DTSTART:20251026T010000
END:STANDARD
END:VTIMEZONE
BEGIN:VEVENT
DTSTART;VALUE=DATE:20240428
DTEND;VALUE=DATE:20240701
DTSTAMP:20260422T101300
CREATED:20240519T064753Z
LAST-MODIFIED:20240519T064753Z
UID:2469-1714262400-1719791999@ride4hope.at
SUMMARY:Rambo runs the Donau
DESCRIPTION:Mit dem Rad nach Donau Eschlingen- dann zum schwarzen Meer laufen und mit dem Rad wieder heim…
URL:https://ride4hope.at/event/rambo-runs-the-donau/
LOCATION:Burgenland
CATEGORIES:RamboRuns
ATTACH;FMTTYPE=image/png:https://ride4hope.at/wp-content/uploads/2024/03/logo_li.png
END:VEVENT
BEGIN:VEVENT
DTSTART;VALUE=DATE:20240501
DTEND;VALUE=DATE:20241002
DTSTAMP:20260422T101300
CREATED:20240504T045128Z
LAST-MODIFIED:20240518T052711Z
UID:2384-1714521600-1727827199@ride4hope.at
SUMMARY:Sitzfleisch Challenge 2024
DESCRIPTION:#SITZFLEISCH CHALLENGE \n \n  \nRegister: \nPlease enable JavaScript in your browser to complete this form. - Step 1 of 4Register Sitzfleisch Challenge *Challenge 2024 - 25\,00 €Challenge 2024 - Ride4Hope Team - 0\,00 €Add me to Hybridcup - 15\,00 €\n\nHybridcup Oststeiermark 2024/25plus Hybridcup 2024 - 15\,00 €NextTitleMrMrsMxName *FirstLastStart Nr of Sitzfleisch Challenge *Ride4Hope Austria Team MemberRide4Hope Austria MemberTeamAddress *Address Line 1CityState / Province / RegionPostal Code--- Select country ---AfghanistanAlbaniaAlgeriaAmerican SamoaAndorraAngolaAnguillaAntarcticaAntigua and BarbudaArgentinaArmeniaArubaAustraliaAustriaAzerbaijanBahamasBahrainBangladeshBarbadosBelarusBelgiumBelizeBeninBermudaBhutanBolivia (Plurinational State of)Bonaire\, Saint Eustatius and SabaBosnia and HerzegovinaBotswanaBouvet IslandBrazilBritish Indian Ocean TerritoryBrunei DarussalamBulgariaBurkina FasoBurundiCabo VerdeCambodiaCameroonCanadaCayman IslandsCentral African RepublicChadChileChinaChristmas IslandCocos (Keeling) IslandsColombiaComorosCongoCongo (Democratic Republic of the)Cook IslandsCosta RicaCroatiaCubaCuraçaoCyprusCzech RepublicCôte d'IvoireDenmarkDjiboutiDominicaDominican RepublicEcuadorEgyptEl SalvadorEquatorial GuineaEritreaEstoniaEswatini (Kingdom of)EthiopiaFalkland Islands (Malvinas)Faroe IslandsFijiFinlandFranceFrench GuianaFrench PolynesiaFrench Southern TerritoriesGabonGambiaGeorgiaGermanyGhanaGibraltarGreeceGreenlandGrenadaGuadeloupeGuamGuatemalaGuernseyGuineaGuinea-BissauGuyanaHaitiHeard Island and McDonald IslandsHondurasHong KongHungaryIcelandIndiaIndonesiaIran (Islamic Republic of)IraqIreland (Republic of)Isle of ManIsraelItalyJamaicaJapanJerseyJordanKazakhstanKenyaKiribatiKorea (Democratic People's Republic of)Korea (Republic of)KosovoKuwaitKyrgyzstanLao People's Democratic RepublicLatviaLebanonLesothoLiberiaLibyaLiechtensteinLithuaniaLuxembourgMacaoMadagascarMalawiMalaysiaMaldivesMaliMaltaMarshall IslandsMartiniqueMauritaniaMauritiusMayotteMexicoMicronesia (Federated States of)Moldova (Republic of)MonacoMongoliaMontenegroMontserratMoroccoMozambiqueMyanmarNamibiaNauruNepalNetherlandsNew CaledoniaNew ZealandNicaraguaNigerNigeriaNiueNorfolk IslandNorth Macedonia (Republic of)Northern Mariana IslandsNorwayOmanPakistanPalauPalestine (State of)PanamaPapua New GuineaParaguayPeruPhilippinesPitcairnPolandPortugalPuerto RicoQatarRomaniaRussian FederationRwandaRéunionSaint BarthélemySaint Helena\, Ascension and Tristan da CunhaSaint Kitts and NevisSaint LuciaSaint Martin (French part)Saint Pierre and MiquelonSaint Vincent and the GrenadinesSamoaSan MarinoSao Tome and PrincipeSaudi ArabiaSenegalSerbiaSeychellesSierra LeoneSingaporeSint Maarten (Dutch part)SlovakiaSloveniaSolomon IslandsSomaliaSouth AfricaSouth Georgia and the South Sandwich IslandsSouth SudanSpainSri LankaSudanSurinameSvalbard and Jan MayenSwedenSwitzerlandSyrian Arab RepublicTaiwan\, Republic of ChinaTajikistanTanzania (United Republic of)ThailandTimor-LesteTogoTokelauTongaTrinidad and TobagoTunisiaTurkmenistanTurks and Caicos IslandsTuvaluTürkiyeUgandaUkraineUnited Arab EmiratesUnited Kingdom of Great Britain and Northern IrelandUnited States Minor Outlying IslandsUnited States of AmericaUruguayUzbekistanVanuatuVatican City StateVenezuela (Bolivarian Republic of)VietnamVirgin Islands (British)Virgin Islands (U.S.)Wallis and FutunaWestern SaharaYemenZambiaZimbabweÅland IslandsCountryBirthdate *DD12345678910111213141516171819202122232425262728293031MM123456789101112YYYY202720262025202420232022202120202019201820172016201520142013201220112010200920082007200620052004200320022001200019991998199719961995199419931992199119901989198819871986198519841983198219811980197919781977197619751974197319721971197019691968196719661965196419631962196119601959195819571956195519541953195219511950194919481947194619451944194319421941194019391938193719361935193419331932193119301929192819271926192519241923192219211920Email *EmailConfirm EmailName *Phone NumberAdd Personal Link to PlattformStravaBkoolGarminKomootLink to Garmin UserLink to Strava UserLink to BKOOL UserLink to Komoot UserPreviousNextAdd OnsStart Cap - 19\,00 €Sitzfleisch Challenge Zippo limitiert auf 100 Stück - 65\,00 €10km für Ride4Hope - 40\,00 €Add Ons WomanStart Cap Woman - 19\,00 €Sitzfleisch Challenge Zippo limitiert auf 100 Stück - 65\,00 €10km für Ride4Hope - 40\,00 €NewsletterConfirm subscription to NewsletterGDPR Agreement *I consent to having this website store my submitted information so they can respond to my inquiry.Comments or QuestionsPreviousNextAs Ride4Hope Team Member\, you are wellcome to Register for this Challenge for FREE!\nUpdating preview…This is a preview of your submission. It has not been submitted yet!\nPlease take a moment to verify your information. You can also go back to make changes.As Ride4Hope Team Member\, you are wellcome to Register for this Challenge for FREE!\nPayment *Paypal - 0\,60 €Bank Transfer - 0\,00 €Coupon\n				\n					\n				\n				Apply\n			\n			Total0\,00 €Bank Transfer: \nRide4Hope \nIBAN: AT80 1921 0332 9381 2003\nBIC: INGBATWW \n  \nPaypal will start after Register 😉 \n  \nPreviousRegister
URL:https://ride4hope.at/event/sitzfleisch-challenge-2024/
LOCATION:Ride4Hope Austria\, Hauptplatz\, Passail\, 8162\, Austria
CATEGORIES:Sitzfleisch Challenge
ORGANIZER;CN="Ride4Hope Austria":MAILTO:office@ride4hope.at
END:VEVENT
BEGIN:VEVENT
DTSTART;TZID=Europe/Vienna:20240505T100000
DTEND;TZID=Europe/Vienna:20240505T170000
DTSTAMP:20260422T101300
CREATED:20240228T073241Z
LAST-MODIFIED:20240504T044513Z
UID:2280-1714903200-1714928400@ride4hope.at
SUMMARY:Besichtigungsfahrt Coffee Ride
DESCRIPTION:Am 23.04. findet eine Besichtigungsfahrt der Coffee Ride Runde statt. Bitte um Anmeldung in Strava: \nhttps://strava.app.link/NeoqOazDvHb
URL:https://ride4hope.at/event/besichtigungsfahrt-coffee-ride/
LOCATION:Coffee Ride\, Franziskaner Platz 12\, Graz\, 8010\, Austria
CATEGORIES:Sitzfleisch Challenge
ORGANIZER;CN="Ride4Hope Austria":MAILTO:office@ride4hope.at
END:VEVENT
BEGIN:VEVENT
DTSTART;TZID=Europe/Vienna:20240518T080000
DTEND;TZID=Europe/Vienna:20240518T170000
DTSTAMP:20260422T101300
CREATED:20240518T203920Z
LAST-MODIFIED:20240518T203920Z
UID:2450-1716019200-1716051600@ride4hope.at
SUMMARY:MULTIMEDIA-VORTRAG "DER WEG IST WEITER ALS DAS ZIEL" 2.0
DESCRIPTION:Ultraradsportler Christoph Strasser kennt nicht nur die Höhen. Zwei krankheitsbedingte Aufgaben beim Race Across America\, ein schwerer Trainingsunfall oder die corona-bedingte Absage des 24 Stunden Weltrekordversuches auf einer Autorennstrecke in Colorado haben auch beim 6-fachen Race Across America und 4-fachen Race Around Austria Sieger Spuren hinterlassen. Wie man sich trotzdem immer wieder motiviert\, aus Rückschlägen stärker herausgeht\, wie man die Motivation aufbringen kann um beim RAAM knapp 5000 Kilometern in nur 8 Tagen mit dem Rad zurückzulegen und wie er es geschafft hat\, als erster Mensch mehr als 1000 Kilometer in 24 Stunden zurückzulegen\, erzählt er in diesem Multimediavortrag.\nWeiters erzählt er über seine neueste Leidenschaft\, die er 2022\, 2023 und auch 2024 in Angriff genommen hat: Unsupported Rennen\, allen voran das lgendäre Transcontinental Race\, dem renommiertesten „unsupported Ultracycling Race“\, das die Teilnehmer quer durch Europa führt. Im Gegensatz zum RAAM musste er hier ohne Betreuerteam\, das ihn normalerweise rund um die Uhr begleitet\, versorgt und motiviert\, unterwegs sein. Gepäckmitnahme\, Navigation\, Verpflegung und Pausenstrategie mussten völlig selbstständig und ohne Hilfe von außen bewerkstelligt werden. Damit begab sich Christoph aus seiner Komfortzone und stellte sich einer neuen und für ihn unbekannten Challenge. Was hielt die aktuelle Saison 2024 für ihn bereit?
URL:https://ride4hope.at/event/multimedia-vortrag-der-weg-ist-weiter-als-das-ziel-2-0-3/
LOCATION:Lieboch\, Hitzendorferstraße 3\, Lieboch\, 8501\, Austria
CATEGORIES:Ride4Hope Austria on Tour,Straps
ATTACH;FMTTYPE=image/jpeg:https://ride4hope.at/wp-content/uploads/2024/05/csm_CS_Instagram_Post_NEU_ZUSATZ2023_f1b52ba3c9.jpg
END:VEVENT
BEGIN:VEVENT
DTSTART;VALUE=DATE:20240525
DTEND;VALUE=DATE:20240526
DTSTAMP:20260422T101300
CREATED:20240518T202934Z
LAST-MODIFIED:20240519T061146Z
UID:2437-1716595200-1716681599@ride4hope.at
SUMMARY:Multimedia-Vortrag "Der Weg ist weiter als das Ziel 2.0
DESCRIPTION:Ultraradsportler Christoph Strasser kennt nicht nur die Höhen. Zwei krankheitsbedingte Aufgaben beim Race Across America\, ein schwerer Trainingsunfall oder die corona-bedingte Absage des 24 Stunden Weltrekordversuches auf einer Autorennstrecke in Colorado haben auch beim 6-fachen Race Across America und 4-fachen Race Around Austria Sieger Spuren hinterlassen. Wie man sich trotzdem immer wieder motiviert\, aus Rückschlägen stärker herausgeht\, wie man die Motivation aufbringen kann um beim RAAM knapp 5000 Kilometern in nur 8 Tagen mit dem Rad zurückzulegen und wie er es geschafft hat\, als erster Mensch mehr als 1000 Kilometer in 24 Stunden zurückzulegen\, erzählt er in diesem Multimediavortrag.\nWeiters erzählt er über die Herausforderung\, die er im Juli 2022 in Angriff nahm: Er startete beim Transcontinental Race\, dem renommiertesten „unsupported Ultracycling Race“\, das die Teilnehmer über 4000 Kilometer von Belgien an die bulgarische Küste des Schwarzen Meeres führte. Im Gegensatz zum RAAM musste er hier ohne Betreuerteam\, das ihn normalerweise rund um die Uhr begleitet\, versorgt und motiviert\, unterwegs sein. Gepäckmitnahme\, Navigation\, Verpflegung und Pausenstrategie mussten völlig selbstständig und ohne Hilfe von außen bewerkstelligt werden. Damit begab sich Christoph aus seiner Komfortzone und stellte sich einer neuen und für ihn unbekannten Challenge\, die er auch im Folgejahr wieder annahm. Und was hielt die Saison 2024 für ihn bereit?
URL:https://ride4hope.at/event/multimedia-vortrag-der-weg-ist-weiter-als-das-ziel-2-0/
LOCATION:St. Gertraud\, artBOX\, St. Gertraud\, Kärnten\, Austria
CATEGORIES:Ride4Hope Austria on Tour,Straps
ATTACH;FMTTYPE=image/jpeg:https://ride4hope.at/wp-content/uploads/2024/05/Klein-csm_CS_Instagram_Post_NEU_ZUSATZ2023_f1b52ba3c9.jpeg
END:VEVENT
BEGIN:VEVENT
DTSTART;VALUE=DATE:20240528
DTEND;VALUE=DATE:20240530
DTSTAMP:20260422T101300
CREATED:20240518T201942Z
LAST-MODIFIED:20240523T162301Z
UID:2431-1716854400-1717027199@ride4hope.at
SUMMARY:RACA East to West
DESCRIPTION:DIE STRECKE  #RACA1000\n\n\nführt vom östlichsten Punkt Österreichs Nickelsdorf über die schönsten Pässe …Semmering Pass (965m)\, Sölkpass (1.788m)\, Turracher Höhe (1.795m) \nWindische Höhe (1.110m)\, Kartitscher Sattel (1.525m) \nIselsberg Pass (1.209m)\, Großglockner Hochtor (2.504m) \nEdelweißspitze (2.571m)\, Gerlospass (1.628m) \nKühtai Sattel (2.017m)\, Bielerhöhe (2.071m)… zum westlichsten Punkt ins Ziel nach Feldkirch
URL:https://ride4hope.at/event/raca-east-to-wets/
LOCATION:Burgenland
CATEGORIES:Bewerbsteilnahme,Sitzfleisch Express on Tour
ATTACH;FMTTYPE=image/png:https://ride4hope.at/wp-content/uploads/2024/05/sitzfleischexpress-2.png
END:VEVENT
END:VCALENDAR