BEGIN:VCALENDAR
VERSION:2.0
PRODID:-//Ride4Hope Austria - ECPv6.15.20//NONSGML v1.0//EN
CALSCALE:GREGORIAN
METHOD:PUBLISH
X-WR-CALNAME:Ride4Hope Austria
X-ORIGINAL-URL:https://ride4hope.at
X-WR-CALDESC:Veranstaltungen für Ride4Hope Austria
REFRESH-INTERVAL;VALUE=DURATION:PT1H
X-Robots-Tag:noindex
X-PUBLISHED-TTL:PT1H
BEGIN:VTIMEZONE
TZID:Europe/Vienna
BEGIN:DAYLIGHT
TZOFFSETFROM:+0100
TZOFFSETTO:+0200
TZNAME:CEST
DTSTART:20230326T010000
END:DAYLIGHT
BEGIN:STANDARD
TZOFFSETFROM:+0200
TZOFFSETTO:+0100
TZNAME:CET
DTSTART:20231029T010000
END:STANDARD
BEGIN:DAYLIGHT
TZOFFSETFROM:+0100
TZOFFSETTO:+0200
TZNAME:CEST
DTSTART:20240331T010000
END:DAYLIGHT
BEGIN:STANDARD
TZOFFSETFROM:+0200
TZOFFSETTO:+0100
TZNAME:CET
DTSTART:20241027T010000
END:STANDARD
BEGIN:DAYLIGHT
TZOFFSETFROM:+0100
TZOFFSETTO:+0200
TZNAME:CEST
DTSTART:20250330T010000
END:DAYLIGHT
BEGIN:STANDARD
TZOFFSETFROM:+0200
TZOFFSETTO:+0100
TZNAME:CET
DTSTART:20251026T010000
END:STANDARD
BEGIN:DAYLIGHT
TZOFFSETFROM:+0100
TZOFFSETTO:+0200
TZNAME:CEST
DTSTART:20260329T010000
END:DAYLIGHT
BEGIN:STANDARD
TZOFFSETFROM:+0200
TZOFFSETTO:+0100
TZNAME:CET
DTSTART:20261025T010000
END:STANDARD
END:VTIMEZONE
BEGIN:VEVENT
DTSTART;VALUE=DATE:20240601
DTEND;VALUE=DATE:20250502
DTSTAMP:20260421T232426
CREATED:20240518T052541Z
LAST-MODIFIED:20240518T052541Z
UID:2428-1717200000-1746143999@ride4hope.at
SUMMARY:Hybridcup 2024/25
DESCRIPTION:Hybridchup Oststiermark 2024 – 2025 geht in die 2. Runde!
URL:https://ride4hope.at/event/hybridcup-2024-25/
LOCATION:Burgenland
CATEGORIES:Hybridcup
ORGANIZER;CN="Erlebnisregion Oststeiermark":MAILTO:info@oststeiermark.com
END:VEVENT
BEGIN:VEVENT
DTSTART;TZID=Europe/Vienna:20241108T193000
DTEND;TZID=Europe/Vienna:20241108T213000
DTSTAMP:20260421T232426
CREATED:20240522T035826Z
LAST-MODIFIED:20240522T040011Z
UID:2487-1731094200-1731101400@ride4hope.at
SUMMARY:Multimedia-Vortrag "Der Weg ist weiter als das Ziel 2.0"
DESCRIPTION:Ultraradsportler Christoph Strasser kennt nicht nur die Höhen. Zwei krankheitsbedingte Aufgaben beim Race Across America\, ein schwerer Trainingsunfall oder die corona-bedingte Absage des 24 Stunden Weltrekordversuches auf einer Autorennstrecke in Colorado haben auch beim 6-fachen Race Across America und 4-fachen Race Around Austria Sieger Spuren hinterlassen. Wie man sich trotzdem immer wieder motiviert\, aus Rückschlägen stärker herausgeht\, wie man die Motivation aufbringen kann um beim RAAM knapp 5000 Kilometern in nur 8 Tagen mit dem Rad zurückzulegen und wie er es geschafft hat\, als erster Mensch mehr als 1000 Kilometer in 24 Stunden zurückzulegen\, erzählt er in diesem Multimediavortrag.\nWeiters erzählt er über die Herausforderung\, die er im Juli 2022 in Angriff nahm: Er startete beim Transcontinental Race\, dem renommiertesten „unsupported Ultracycling Race“\, das die Teilnehmer über 4000 Kilometer von Belgien an die bulgarische Küste des Schwarzen Meeres führte. Im Gegensatz zum RAAM musste er hier ohne Betreuerteam\, das ihn normalerweise rund um die Uhr begleitet\, versorgt und motiviert\, unterwegs sein. Gepäckmitnahme\, Navigation\, Verpflegung und Pausenstrategie mussten völlig selbstständig und ohne Hilfe von außen bewerkstelligt werden. Damit begab sich Christoph aus seiner Komfortzone und stellte sich einer neuen und für ihn unbekannten Challenge. Und was hielt die Saison 2023/24 für ihn bereit? \n  \nEintritt: Der Ticketverkauf findet online über oeticket statt.\nHier geht’s zu oeticket
URL:https://ride4hope.at/event/multimedia-vortrag-der-weg-ist-weiter-als-das-ziel-2-0-5/
LOCATION:klagenfurt\, Konzerthaus\, Mießtaler Strasse 8\,\, Klagenfurt\, 9020\, Austria
CATEGORIES:Ride4Hope Austria on Tour,Straps
ATTACH;FMTTYPE=image/jpeg:https://ride4hope.at/wp-content/uploads/2024/05/Klein-csm_CS_Instagram_Post_NEU_ZUSATZ2023_f1b52ba3c9.jpeg
END:VEVENT
BEGIN:VEVENT
DTSTART;TZID=Europe/Vienna:20241109T180000
DTEND;TZID=Europe/Vienna:20241109T200000
DTSTAMP:20260421T232426
CREATED:20240522T050715Z
LAST-MODIFIED:20240522T050715Z
UID:2499-1731175200-1731182400@ride4hope.at
SUMMARY:MULTIMEDIA-VORTRAG "DER WEG IST WEITER ALS DAS ZIEL" 2.0
DESCRIPTION:Ultraradsportler Christoph Strasser kennt nicht nur die Höhen. Zwei krankheitsbedingte Aufgaben beim Race Across America\, ein schwerer Trainingsunfall oder die corona-bedingte Absage des 24 Stunden Weltrekordversuches auf einer Autorennstrecke in Colorado haben auch beim 6-fachen Race Across America und 4-fachen Race Around Austria Sieger Spuren hinterlassen. Wie man sich trotzdem immer wieder motiviert\, aus Rückschlägen stärker herausgeht\, wie man die Motivation aufbringen kann um beim RAAM knapp 5000 Kilometern in nur 8 Tagen mit dem Rad zurückzulegen und wie er es geschafft hat\, als erster Mensch mehr als 1000 Kilometer in 24 Stunden zurückzulegen\, erzählt er in diesem Multimediavortrag.\nWeiters erzählt er über die Herausforderung\, die er im Juli 2022 in Angriff nahm: Er startete beim Transcontinental Race\, dem renommiertesten „unsupported Ultracycling Race“\, das die Teilnehmer über 4000 Kilometer von Belgien an die bulgarische Küste des Schwarzen Meeres führte. Im Gegensatz zum RAAM musste er hier ohne Betreuerteam\, das ihn normalerweise rund um die Uhr begleitet\, versorgt und motiviert\, unterwegs sein. Gepäckmitnahme\, Navigation\, Verpflegung und Pausenstrategie mussten völlig selbstständig und ohne Hilfe von außen bewerkstelligt werden. Damit begab sich Christoph aus seiner Komfortzone und stellte sich einer neuen und für ihn unbekannten Challenge\, die er auch im Folgejahr wieder annahm. Und was hielt die Saison 2024 für ihn bereit? \nBeeindruckende Bilder\, emotionale Videos und unterhaltsame Anekdoten runden seinen Vortrag ab\, der nicht nur für Sportler und Radfahrer interessant ist\, sondern auch Tipps und Einblicke in die Themen Motivation\, Zielsetzung und die Wichtigkeit eines eingespielten Teams für jeden Menschen liefert. \nOrt und Beginn:\n09. November 2024\, Kulturtreff Bad\, Schulstrasse 8\, A – 4284 Tragwein\nEinlass: 18 Uhr\nBeginn: 19 Uhr \nEintritt: Der Ticketverkauf findet online über unseren Ultracyclingshop statt (* Tickets die über den Ultracyclingshop gekauft werden\, werden nicht versendet\, sondern sind am Vortagsabend auf Vor- und Nachname an der Kassa hinterlegt)\nHier geht’s zu den Tickets
URL:https://ride4hope.at/event/multimedia-vortrag-der-weg-ist-weiter-als-das-ziel-2-0-8/
LOCATION:tragwein\, Schulstrasse 8\, Tragwein\, 4284\, Austria
CATEGORIES:Ride4Hope Austria on Tour,Straps
ATTACH;FMTTYPE=image/jpeg:https://ride4hope.at/wp-content/uploads/2024/05/Klein-csm_CS_Instagram_Post_NEU_ZUSATZ2023_f1b52ba3c9.jpeg
END:VEVENT
BEGIN:VEVENT
DTSTART;TZID=Europe/Vienna:20241123T190000
DTEND;TZID=Europe/Vienna:20241123T210000
DTSTAMP:20260421T232426
CREATED:20240522T050922Z
LAST-MODIFIED:20240522T050922Z
UID:2503-1732388400-1732395600@ride4hope.at
SUMMARY:MULTIMEDIA-VORTRAG "DER WEG IST WEITER ALS DAS ZIEL" 2.0
DESCRIPTION:Ultraradsportler Christoph Strasser kennt nicht nur die Höhen. Zwei krankheitsbedingte Aufgaben beim Race Across America\, ein schwerer Trainingsunfall oder die corona-bedingte Absage des 24 Stunden Weltrekordversuches auf einer Autorennstrecke in Colorado haben auch beim 6-fachen Race Across America und 4-fachen Race Around Austria Sieger Spuren hinterlassen. Wie man sich trotzdem immer wieder motiviert\, aus Rückschlägen stärker herausgeht\, wie man die Motivation aufbringen kann um beim RAAM knapp 5000 Kilometern in nur 8 Tagen mit dem Rad zurückzulegen und wie er es geschafft hat\, als erster Mensch mehr als 1000 Kilometer in 24 Stunden zurückzulegen\, erzählt er in diesem Multimediavortrag.\nWeiters erzählt er über die Herausforderung\, die er im Juli 2022 und 2023 in Angriff nahm: Er startete beim Transcontinental Race\, dem renommiertesten „unsupported Ultracycling Race“\, das die Teilnehmer über 4000 Kilometer von Belgien an die bulgarische Küste des Schwarzen Meeres bzw. nach Griechenland führte. Im Gegensatz zum RAAM musste er hier ohne Betreuerteam\, das ihn normalerweise rund um die Uhr begleitet\, versorgt und motiviert\, unterwegs sein. Gepäckmitnahme\, Navigation\, Verpflegung und Pausenstrategie mussten völlig selbstständig und ohne Hilfe von außen bewerkstelligt werden. Damit begab sich Christoph aus seiner Komfortzone und stellte sich einer neuen und für ihn unbekannten Challenge. Und was hielt die Saison 2024 für ihn bereit? \nBeeindruckende Bilder\, emotionale Videos und unterhaltsame Anekdoten runden seinen Vortrag ab\, der nicht nur für Sportler und Radfahrer interessant ist\, sondern auch Tipps und Einblicke in die Themen Motivation\, Zielsetzung und die Wichtigkeit eines eingespielten Teams für jeden Menschen liefert. \nOrt und Beginn:\n23. November 2024\, VAZ Zillingtal\, Landstrasse 11 A\, A-7034 Zillingtal\nBeginn: 19 Uhr \nEintritt: Der Ticketverkauf wird vom Auftraggeber über oeticket und eventjet abgewickelt\, mit dem Link in der nächsten Zeile geht es direkt zur Ticketseite \nHier geht’s zu OETICKET
URL:https://ride4hope.at/event/multimedia-vortrag-der-weg-ist-weiter-als-das-ziel-2-0-9/
LOCATION:zillingtal\, Landstrasse 11 A\, Zillingtal\, 7034\, Austria
CATEGORIES:Ride4Hope Austria on Tour,Straps
ATTACH;FMTTYPE=image/jpeg:https://ride4hope.at/wp-content/uploads/2024/05/Klein-csm_CS_Instagram_Post_NEU_ZUSATZ2023_f1b52ba3c9.jpeg
END:VEVENT
END:VCALENDAR